BEGIN:VCALENDAR
VERSION:2.0
PRODID:-//The King&#039;s School - ECPv6.15.20//NONSGML v1.0//EN
CALSCALE:GREGORIAN
METHOD:PUBLISH
X-WR-CALNAME:The King&#039;s School
X-ORIGINAL-URL:https://www.kings.edu.au
X-WR-CALDESC:Events for The King&#039;s School
REFRESH-INTERVAL;VALUE=DURATION:PT1H
X-Robots-Tag:noindex
X-PUBLISHED-TTL:PT1H
BEGIN:VTIMEZONE
TZID:Australia/Sydney
BEGIN:STANDARD
TZOFFSETFROM:+1100
TZOFFSETTO:+1000
TZNAME:AEST
DTSTART:20250405T160000
END:STANDARD
BEGIN:DAYLIGHT
TZOFFSETFROM:+1000
TZOFFSETTO:+1100
TZNAME:AEDT
DTSTART:20251004T160000
END:DAYLIGHT
BEGIN:STANDARD
TZOFFSETFROM:+1100
TZOFFSETTO:+1000
TZNAME:AEST
DTSTART:20260404T160000
END:STANDARD
BEGIN:DAYLIGHT
TZOFFSETFROM:+1000
TZOFFSETTO:+1100
TZNAME:AEDT
DTSTART:20261003T160000
END:DAYLIGHT
BEGIN:STANDARD
TZOFFSETFROM:+1100
TZOFFSETTO:+1000
TZNAME:AEST
DTSTART:20270403T160000
END:STANDARD
BEGIN:DAYLIGHT
TZOFFSETFROM:+1000
TZOFFSETTO:+1100
TZNAME:AEDT
DTSTART:20271002T160000
END:DAYLIGHT
END:VTIMEZONE
BEGIN:VEVENT
DTSTART;VALUE=DATE:20260507
DTEND;VALUE=DATE:20260508
DTSTAMP:20260426T014711
CREATED:20260402T033938Z
LAST-MODIFIED:20260402T033938Z
UID:27787-1778112000-1778198399@www.kings.edu.au
SUMMARY:Year 5 Information Evening
DESCRIPTION:For 15 years\, Michael Terzo transformed musical theatre at The King’s School. From bold beginnings to landmark productions\, this KingsCast looks back at a legacy that changed the stage and the students who stepped onto it. In this KingsCast\, we reflect with our Old Boys on the early days and how far the sport has come. In 1975\, 300 boys played basketball at King’s. Today\, more than 500 boys take the court\, showing the strong and growing passion for the game in our community. 
URL:https://www.kings.edu.au/school-event/year-5-information-evening/
LOCATION:The King’s School\, Preparatory School\, 87-129 Pennant Hills Road\, North Parramatta\, NSW\, 2151\, Australia
CATEGORIES:Preparatory School
ATTACH;FMTTYPE=image/jpeg:https://www.kings.edu.au/wp-content/uploads/2026/04/15094_Year_5_PP_Info_Session_2026_Session_School_WEBSITE.jpg
END:VEVENT
BEGIN:VEVENT
DTSTART;VALUE=DATE:20260515
DTEND;VALUE=DATE:20260516
DTSTAMP:20260426T014711
CREATED:20260316T060308Z
LAST-MODIFIED:20260324T054717Z
UID:27662-1778803200-1778889599@www.kings.edu.au
SUMMARY:Rugby Club Luncheon
DESCRIPTION:For 15 years\, Michael Terzo transformed musical theatre at The King’s School. From bold beginnings to landmark productions\, this KingsCast looks back at a legacy that changed the stage and the students who stepped onto it. In this KingsCast\, we reflect with our Old Boys on the early days and how far the sport has come. In 1975\, 300 boys played basketball at King’s. Today\, more than 500 boys take the court\, showing the strong and growing passion for the game in our community. 
URL:https://www.kings.edu.au/school-event/rugby-club-luncheon-2/
LOCATION:Maritime Ballroom\, Hyatt Regency Sydney\, 161 Sussex St\, Sydney\, NSW\, 2000\, Australia
ATTACH;FMTTYPE=image/jpeg:https://www.kings.edu.au/wp-content/uploads/2026/03/14773_Rugby_Club_Luncheon_2026_WEBSITE.jpg
END:VEVENT
BEGIN:VEVENT
DTSTART;TZID=Australia/Sydney:20260516T183000
DTEND;TZID=Australia/Sydney:20260620T220000
DTSTAMP:20260426T014711
CREATED:20260326T003113Z
LAST-MODIFIED:20260326T010704Z
UID:27697-1778956200-1781992800@www.kings.edu.au
SUMMARY:Year Dinners
DESCRIPTION:For 15 years\, Michael Terzo transformed musical theatre at The King’s School. From bold beginnings to landmark productions\, this KingsCast looks back at a legacy that changed the stage and the students who stepped onto it. In this KingsCast\, we reflect with our Old Boys on the early days and how far the sport has come. In 1975\, 300 boys played basketball at King’s. Today\, more than 500 boys take the court\, showing the strong and growing passion for the game in our community. 
URL:https://www.kings.edu.au/school-event/year-dinners/
LOCATION:The King’s School\, Dining Hall\, 87-129 Pennant Hills Road\, North Parramatta\, NSW\, 2151
ATTACH;FMTTYPE=image/png:https://www.kings.edu.au/wp-content/uploads/2026/03/15558_Year_Dinners_Assets_Website.png
END:VEVENT
BEGIN:VEVENT
DTSTART;TZID=Australia/Sydney:20260522T180000
DTEND;TZID=Australia/Sydney:20260524T210000
DTSTAMP:20260426T014711
CREATED:20260421T010343Z
LAST-MODIFIED:20260421T010343Z
UID:27991-1779472800-1779656400@www.kings.edu.au
SUMMARY:South West Regional Tour
DESCRIPTION:For 15 years\, Michael Terzo transformed musical theatre at The King’s School. From bold beginnings to landmark productions\, this KingsCast looks back at a legacy that changed the stage and the students who stepped onto it. In this KingsCast\, we reflect with our Old Boys on the early days and how far the sport has come. In 1975\, 300 boys played basketball at King’s. Today\, more than 500 boys take the court\, showing the strong and growing passion for the game in our community. 
URL:https://www.kings.edu.au/school-event/south-west-regional-tour/
CATEGORIES:Regional Tours
ATTACH;FMTTYPE=image/jpeg:https://www.kings.edu.au/wp-content/uploads/2026/04/Regional-Tour-South-West-Events-Banner-scaled.jpg
END:VEVENT
END:VCALENDAR