BEGIN:VCALENDAR
VERSION:2.0
PRODID:-//The King&#039;s School - ECPv6.15.20//NONSGML v1.0//EN
CALSCALE:GREGORIAN
METHOD:PUBLISH
X-WR-CALNAME:The King&#039;s School
X-ORIGINAL-URL:https://www.kings.edu.au
X-WR-CALDESC:Events for The King&#039;s School
REFRESH-INTERVAL;VALUE=DURATION:PT1H
X-Robots-Tag:noindex
X-PUBLISHED-TTL:PT1H
BEGIN:VTIMEZONE
TZID:Australia/Sydney
BEGIN:STANDARD
TZOFFSETFROM:+1100
TZOFFSETTO:+1000
TZNAME:AEST
DTSTART:20250405T160000
END:STANDARD
BEGIN:DAYLIGHT
TZOFFSETFROM:+1000
TZOFFSETTO:+1100
TZNAME:AEDT
DTSTART:20251004T160000
END:DAYLIGHT
BEGIN:STANDARD
TZOFFSETFROM:+1100
TZOFFSETTO:+1000
TZNAME:AEST
DTSTART:20260404T160000
END:STANDARD
BEGIN:DAYLIGHT
TZOFFSETFROM:+1000
TZOFFSETTO:+1100
TZNAME:AEDT
DTSTART:20261003T160000
END:DAYLIGHT
BEGIN:STANDARD
TZOFFSETFROM:+1100
TZOFFSETTO:+1000
TZNAME:AEST
DTSTART:20270403T160000
END:STANDARD
BEGIN:DAYLIGHT
TZOFFSETFROM:+1000
TZOFFSETTO:+1100
TZNAME:AEDT
DTSTART:20271002T160000
END:DAYLIGHT
END:VTIMEZONE
BEGIN:VEVENT
DTSTART;TZID=Australia/Sydney:20260425T051000
DTEND;TZID=Australia/Sydney:20260425T060000
DTSTAMP:20260425T024404
CREATED:20260401T005724Z
LAST-MODIFIED:20260401T012138Z
UID:27777-1777093800-1777096800@www.kings.edu.au
SUMMARY:Anzac Day Dawn Service
DESCRIPTION:Please join us for The King’s School Anzac Day Dawn Service for 2026. All members of the King’s community are invited to attend a Dawn Service on Saturday 25 April commencing at 5.30am on the JS White Oval. \nEvent format\n​5.10am – Commence assembling from the JS White Oval\, with seating\navailable in the stands and other designated areas.\n5.25am – Reflections of ANZAC experiences.\n5.30am – Reverend Jason Hobba commences the Service.\n6.00am – Service concludes. \nFollowing the dawn service on the JS White Oval\, we warmly invite you to join The King’s School community at the Sheraton Grand to watch the Sydney CBD Anzac Day March to honour and show respect for those who have served and those who have fallen while serving our country. \nRSVP to CBD March click here.
URL:https://www.kings.edu.au/school-event/anzac-day-dawn-service/
LOCATION:JS White Oval\, The King's School\, 87-129 Pennant Hills Rd\, North Parramatta\, NSW\, Australia
ATTACH;FMTTYPE=image/png:https://www.kings.edu.au/wp-content/uploads/2026/04/15675_2026_Anzac_Day_Dawn_Service_Website-1.png
END:VEVENT
END:VCALENDAR